BEGIN:VCALENDAR
VERSION:2.0
PRODID:-//FÖR PLATT e. V. - ECPv6.15.20//NONSGML v1.0//EN
CALSCALE:GREGORIAN
METHOD:PUBLISH
X-ORIGINAL-URL:https://wp2025.foer-platt.de
X-WR-CALDESC:Veranstaltungen für FÖR PLATT e. V.
REFRESH-INTERVAL;VALUE=DURATION:PT1H
X-Robots-Tag:noindex
X-PUBLISHED-TTL:PT1H
BEGIN:VTIMEZONE
TZID:Europe/Berlin
BEGIN:DAYLIGHT
TZOFFSETFROM:+0100
TZOFFSETTO:+0200
TZNAME:CEST
DTSTART:20240331T010000
END:DAYLIGHT
BEGIN:STANDARD
TZOFFSETFROM:+0200
TZOFFSETTO:+0100
TZNAME:CET
DTSTART:20241027T010000
END:STANDARD
BEGIN:DAYLIGHT
TZOFFSETFROM:+0100
TZOFFSETTO:+0200
TZNAME:CEST
DTSTART:20250330T010000
END:DAYLIGHT
BEGIN:STANDARD
TZOFFSETFROM:+0200
TZOFFSETTO:+0100
TZNAME:CET
DTSTART:20251026T010000
END:STANDARD
BEGIN:DAYLIGHT
TZOFFSETFROM:+0100
TZOFFSETTO:+0200
TZNAME:CEST
DTSTART:20260329T010000
END:DAYLIGHT
BEGIN:STANDARD
TZOFFSETFROM:+0200
TZOFFSETTO:+0100
TZNAME:CET
DTSTART:20261025T010000
END:STANDARD
END:VTIMEZONE
BEGIN:VEVENT
DTSTART;TZID=Europe/Berlin:20250414T150000
DTEND;TZID=Europe/Berlin:20250414T180000
DTSTAMP:20260421T065359
CREATED:20250330T130932Z
LAST-MODIFIED:20250330T135251Z
UID:192-1744642800-1744653600@wp2025.foer-platt.de
SUMMARY:Plattdeutscher Lese-Wettbewerb
DESCRIPTION:Kreisentscheid des plattdeutschen Lese-Wettbewerbs am Kiekeberg
URL:https://wp2025.foer-platt.de/termine/plattdeutscher-lese-wettbewerb/
LOCATION:Freilichtmuseum am Kiekeberg\, Am Kiekeberg 1\, Rosengarten-Ehestorf\, 21224
CATEGORIES:Lesewettbewerb,Wettbewerb
END:VEVENT
END:VCALENDAR