BEGIN:VCALENDAR
VERSION:2.0
PRODID:-//FÖR PLATT e. V. - ECPv6.15.20//NONSGML v1.0//EN
CALSCALE:GREGORIAN
METHOD:PUBLISH
X-ORIGINAL-URL:https://wp2025.foer-platt.de
X-WR-CALDESC:Veranstaltungen für FÖR PLATT e. V.
REFRESH-INTERVAL;VALUE=DURATION:PT1H
X-Robots-Tag:noindex
X-PUBLISHED-TTL:PT1H
BEGIN:VTIMEZONE
TZID:Europe/Berlin
BEGIN:DAYLIGHT
TZOFFSETFROM:+0100
TZOFFSETTO:+0200
TZNAME:CEST
DTSTART:20240331T010000
END:DAYLIGHT
BEGIN:STANDARD
TZOFFSETFROM:+0200
TZOFFSETTO:+0100
TZNAME:CET
DTSTART:20241027T010000
END:STANDARD
BEGIN:DAYLIGHT
TZOFFSETFROM:+0100
TZOFFSETTO:+0200
TZNAME:CEST
DTSTART:20250330T010000
END:DAYLIGHT
BEGIN:STANDARD
TZOFFSETFROM:+0200
TZOFFSETTO:+0100
TZNAME:CET
DTSTART:20251026T010000
END:STANDARD
BEGIN:DAYLIGHT
TZOFFSETFROM:+0100
TZOFFSETTO:+0200
TZNAME:CEST
DTSTART:20260329T010000
END:DAYLIGHT
BEGIN:STANDARD
TZOFFSETFROM:+0200
TZOFFSETTO:+0100
TZNAME:CET
DTSTART:20261025T010000
END:STANDARD
END:VTIMEZONE
BEGIN:VEVENT
DTSTART;TZID=Europe/Berlin:20250420T193000
DTEND;TZID=Europe/Berlin:20250420T220000
DTSTAMP:20260421T070335
CREATED:20250330T125539Z
LAST-MODIFIED:20250330T133343Z
UID:186-1745177400-1745186400@wp2025.foer-platt.de
SUMMARY:Komödie "Haarige Tieden"
DESCRIPTION:Der Theaterverein Evendorf „De Ebendörper Immenschworm“ präsentiert „Haarige Tieden“\, eine Plattdeutsche Komödie in drei Akten von Winnie Abel (plattd. Fassung Heino Buerhoop\, Plausus-Theaterverlag). \n\n\n\nZum Inhalt: Friseurmeisterin Moni steht unter Strom! Denn das Finanzamt kommt gleich für eine Betriebsprüfung in den Salon. Und Moni wird schlagartig klar\, dass ihr großspuriger Ehemann bei ihrer Steuererklärung geschummelt hat\, dass sich die Balken biegen! Das sollten Sie nicht verpassen\, wenn es heißt: Waschen\, Schneiden\, Lachen! \n\n\n\nKarten nur an der Tageskasse\, Einlass jeweils eine Stunde vor Spielbeginn.
URL:https://wp2025.foer-platt.de/termine/komoedie-haarige-tieden-3/
LOCATION:Schützenhaus Evendorf\, Evendorfer Schindeweg 6\, Evendorf\, 21272
CATEGORIES:Komödie,Theater
END:VEVENT
END:VCALENDAR