BEGIN:VCALENDAR
VERSION:2.0
PRODID:-//FÖR PLATT e. V. - ECPv6.15.20//NONSGML v1.0//EN
CALSCALE:GREGORIAN
METHOD:PUBLISH
X-ORIGINAL-URL:https://wp2025.foer-platt.de
X-WR-CALDESC:Veranstaltungen für FÖR PLATT e. V.
REFRESH-INTERVAL;VALUE=DURATION:PT1H
X-Robots-Tag:noindex
X-PUBLISHED-TTL:PT1H
BEGIN:VTIMEZONE
TZID:Europe/Berlin
BEGIN:DAYLIGHT
TZOFFSETFROM:+0100
TZOFFSETTO:+0200
TZNAME:CEST
DTSTART:20240331T010000
END:DAYLIGHT
BEGIN:STANDARD
TZOFFSETFROM:+0200
TZOFFSETTO:+0100
TZNAME:CET
DTSTART:20241027T010000
END:STANDARD
BEGIN:DAYLIGHT
TZOFFSETFROM:+0100
TZOFFSETTO:+0200
TZNAME:CEST
DTSTART:20250330T010000
END:DAYLIGHT
BEGIN:STANDARD
TZOFFSETFROM:+0200
TZOFFSETTO:+0100
TZNAME:CET
DTSTART:20251026T010000
END:STANDARD
BEGIN:DAYLIGHT
TZOFFSETFROM:+0100
TZOFFSETTO:+0200
TZNAME:CEST
DTSTART:20260329T010000
END:DAYLIGHT
BEGIN:STANDARD
TZOFFSETFROM:+0200
TZOFFSETTO:+0100
TZNAME:CET
DTSTART:20261025T010000
END:STANDARD
END:VTIMEZONE
BEGIN:VEVENT
DTSTART;TZID=Europe/Berlin:20250507T193000
DTEND;TZID=Europe/Berlin:20250507T210000
DTSTAMP:20260421T052128
CREATED:20250416T082952Z
LAST-MODIFIED:20250416T083229Z
UID:266-1746646200-1746651600@wp2025.foer-platt.de
SUMMARY:Platt op Brenners Hoff
DESCRIPTION:Der Plattschnacker Horst Jürgens aus Lüneburg ist zu Gast. \n\n\n\nAb Mitte der 90er Jahre hat der seit 2009 im Ruhestand lebende Bauingenieur sich intensiv mit dem Sammeln plattdeutscher Geschichten von verschiedenen Autoren und dem Schreiben eigener Geschichten befasst. \n\n\n\nMit Gedichten und Schmunzelgeschichten ist er als „Horst up Platt“ bei vielen Veranstaltungen in der Region ein gern gesehener Gast. Mit seinen \n\n\n\nlustigen Geschichten und Riemels unter dem Titel „Sik högen is mehr als smuustergrienen“ wird er garantiert für einen fröhlichen und unbeschwerten Abend sorgen. Herzliche Einladung zu dieser sicher unterhaltsamen Veranstaltung. \n\n\n\nPlattdeutschzentrum im Haus des Gastes\, Haus des Gastes (Brenners Hoff) \n\n\n\nSchützenstraße 4 – 21376 Salzhausen; Ansprechpartner: Hans-Hermann Putensen
URL:https://wp2025.foer-platt.de/termine/platt-op-brenners-hoff/
END:VEVENT
END:VCALENDAR