BEGIN:VCALENDAR
VERSION:2.0
PRODID:-//FÖR PLATT e. V. - ECPv6.15.20//NONSGML v1.0//EN
CALSCALE:GREGORIAN
METHOD:PUBLISH
X-WR-CALNAME:FÖR PLATT e. V.
X-ORIGINAL-URL:https://wp2025.foer-platt.de
X-WR-CALDESC:Veranstaltungen für FÖR PLATT e. V.
REFRESH-INTERVAL;VALUE=DURATION:PT1H
X-Robots-Tag:noindex
X-PUBLISHED-TTL:PT1H
BEGIN:VTIMEZONE
TZID:Europe/Berlin
BEGIN:DAYLIGHT
TZOFFSETFROM:+0100
TZOFFSETTO:+0200
TZNAME:CEST
DTSTART:20240331T010000
END:DAYLIGHT
BEGIN:STANDARD
TZOFFSETFROM:+0200
TZOFFSETTO:+0100
TZNAME:CET
DTSTART:20241027T010000
END:STANDARD
BEGIN:DAYLIGHT
TZOFFSETFROM:+0100
TZOFFSETTO:+0200
TZNAME:CEST
DTSTART:20250330T010000
END:DAYLIGHT
BEGIN:STANDARD
TZOFFSETFROM:+0200
TZOFFSETTO:+0100
TZNAME:CET
DTSTART:20251026T010000
END:STANDARD
BEGIN:DAYLIGHT
TZOFFSETFROM:+0100
TZOFFSETTO:+0200
TZNAME:CEST
DTSTART:20260329T010000
END:DAYLIGHT
BEGIN:STANDARD
TZOFFSETFROM:+0200
TZOFFSETTO:+0100
TZNAME:CET
DTSTART:20261025T010000
END:STANDARD
END:VTIMEZONE
BEGIN:VEVENT
DTSTART;TZID=Europe/Berlin:20250517T143000
DTEND;TZID=Europe/Berlin:20250517T170000
DTSTAMP:20260421T051751
CREATED:20250416T072535Z
LAST-MODIFIED:20250515T070154Z
UID:251-1747492200-1747501200@wp2025.foer-platt.de
SUMMARY:Jubiläum 20 Jahre Verein FÖR PLATT e. V.: Platt för Kinner
DESCRIPTION:Alle Kinder sind herzlich eingeladen\, zusammen mit Eltern und Großeltern\, die plattdeutsche Sprache kennenzulernen und aktiv mitzumachen. Silke Borchert präsentiert ihr Kamishibai-Erzähltheater\, Fingerspiele\, Lieder und Tanz\, zum Anschauen\, Zuhören und Mitmachen. Der Eintritt ist frei (ohne Verzehr). In der Pause werden Kaffee\, Kuchen und Getränke angeboten.  \n\n\n\nAnmeldeschluss: 10. Mai 2025\, per E-Mail an info@foer-platt.de oder Tel. 0175-1592556 (A. Sitarz)
URL:https://wp2025.foer-platt.de/termine/jubilaeum-20-jahre-verein-foer-platt-e-v-platt-foer-kinner/
LOCATION:Dörphus Hörsten\, Hörstener Schulstraße 4\, Seevetal\, 21217
ORGANIZER;CN="F%C3%96R PLATT e. V.":MAILTO:info@foer-platt.de
END:VEVENT
END:VCALENDAR