BEGIN:VCALENDAR
VERSION:2.0
PRODID:-//FÖR PLATT e. V. - ECPv6.15.20//NONSGML v1.0//EN
CALSCALE:GREGORIAN
METHOD:PUBLISH
X-ORIGINAL-URL:https://wp2025.foer-platt.de
X-WR-CALDESC:Veranstaltungen für FÖR PLATT e. V.
REFRESH-INTERVAL;VALUE=DURATION:PT1H
X-Robots-Tag:noindex
X-PUBLISHED-TTL:PT1H
BEGIN:VTIMEZONE
TZID:Europe/Berlin
BEGIN:DAYLIGHT
TZOFFSETFROM:+0100
TZOFFSETTO:+0200
TZNAME:CEST
DTSTART:20240331T010000
END:DAYLIGHT
BEGIN:STANDARD
TZOFFSETFROM:+0200
TZOFFSETTO:+0100
TZNAME:CET
DTSTART:20241027T010000
END:STANDARD
BEGIN:DAYLIGHT
TZOFFSETFROM:+0100
TZOFFSETTO:+0200
TZNAME:CEST
DTSTART:20250330T010000
END:DAYLIGHT
BEGIN:STANDARD
TZOFFSETFROM:+0200
TZOFFSETTO:+0100
TZNAME:CET
DTSTART:20251026T010000
END:STANDARD
BEGIN:DAYLIGHT
TZOFFSETFROM:+0100
TZOFFSETTO:+0200
TZNAME:CEST
DTSTART:20260329T010000
END:DAYLIGHT
BEGIN:STANDARD
TZOFFSETFROM:+0200
TZOFFSETTO:+0100
TZNAME:CET
DTSTART:20261025T010000
END:STANDARD
END:VTIMEZONE
BEGIN:VEVENT
DTSTART;TZID=Europe/Berlin:20250523T150000
DTEND;TZID=Europe/Berlin:20250523T170000
DTSTAMP:20260421T050029
CREATED:20250330T131716Z
LAST-MODIFIED:20250512T070115Z
UID:203-1748012400-1748019600@wp2025.foer-platt.de
SUMMARY:Plattdüütsch Möhlensnack
DESCRIPTION:Walter Marquardt aus Immenbeck erklärt „Alte Namen in unserer Heimat – Straßen\, Fluren\, Berge …“ \n\n\n\nDas wirtschaftliche Leben in unseren Dörfern spielte sich in früheren Zeiten zum größten Teil in der Landwirtschaft ab. Wenn ein Bauer seinem Nachbarn erklären wollte\, was er im kommenden Jahr wo anpflanzen wollte\, dann musste er eine Ortsangabe machen. \n\n\n\nEinen „Heisterkamp“ oder die „Liethwischen“ hat es in der Feldmark nur einmal gegeben. So wusste der Nachbar dann ganz genau\, wo der Hafer im nächsten Frühling dann ausgesät werden sollte. \n\n\n\nIm Vortrag werden die Flurnamen des Kirchspiels Moisburg mit den Dörfern Daensen\, Pippensen\, Heimbruch und Podendorf auf alten Landkarten gezeigt und erklärt werden. \n\n\n\nWarum heißt die Straße in Moisburg „Alten Weden“\, woher kommt der Name „Masch“? \n\n\n\nEintritt frei
URL:https://wp2025.foer-platt.de/termine/plattdueuetsch-moehlensnack-2/
LOCATION:Mühlenmuseum Moisburg\, Auf dem Damm 10\, Moisburg\, 21647
CATEGORIES:Klönschnack
END:VEVENT
END:VCALENDAR