BEGIN:VCALENDAR
VERSION:2.0
PRODID:-//FÖR PLATT e. V. - ECPv6.15.20//NONSGML v1.0//EN
CALSCALE:GREGORIAN
METHOD:PUBLISH
X-ORIGINAL-URL:https://wp2025.foer-platt.de
X-WR-CALDESC:Veranstaltungen für FÖR PLATT e. V.
REFRESH-INTERVAL;VALUE=DURATION:PT1H
X-Robots-Tag:noindex
X-PUBLISHED-TTL:PT1H
BEGIN:VTIMEZONE
TZID:Europe/Berlin
BEGIN:DAYLIGHT
TZOFFSETFROM:+0100
TZOFFSETTO:+0200
TZNAME:CEST
DTSTART:20240331T010000
END:DAYLIGHT
BEGIN:STANDARD
TZOFFSETFROM:+0200
TZOFFSETTO:+0100
TZNAME:CET
DTSTART:20241027T010000
END:STANDARD
BEGIN:DAYLIGHT
TZOFFSETFROM:+0100
TZOFFSETTO:+0200
TZNAME:CEST
DTSTART:20250330T010000
END:DAYLIGHT
BEGIN:STANDARD
TZOFFSETFROM:+0200
TZOFFSETTO:+0100
TZNAME:CET
DTSTART:20251026T010000
END:STANDARD
BEGIN:DAYLIGHT
TZOFFSETFROM:+0100
TZOFFSETTO:+0200
TZNAME:CEST
DTSTART:20260329T010000
END:DAYLIGHT
BEGIN:STANDARD
TZOFFSETFROM:+0200
TZOFFSETTO:+0100
TZNAME:CET
DTSTART:20261025T010000
END:STANDARD
END:VTIMEZONE
BEGIN:VEVENT
DTSTART;TZID=Europe/Berlin:20250604T193000
DTEND;TZID=Europe/Berlin:20250604T210000
DTSTAMP:20260422T122309
CREATED:20250522T145628Z
LAST-MODIFIED:20250530T110009Z
UID:328-1749065400-1749070800@wp2025.foer-platt.de
SUMMARY:Platt up Brenners Hoff
DESCRIPTION:Plattdeutschzentrum im Haus des Gastes (Brenners Hoff)\, Schützenstraße 4\, 21376 Salzhausen; \n\n\n\n\n\nEs gibt aus dem Fundus des verstorben Dokumentarfilmers Jürgen A. Schulz den DVD-Film „Kulturdenkmale zwischen Marsch und Geest“ zu sehen mit den plattdeutschen Kommentaren von Heiner Schönecke. Der Film zeigt exemplarisch die bemerkenswerten Zeugen der Vergangenheit\, das Leben und die Entwicklung in dieser Region. Er beweist\, dass Denkmale\, wie Steinsetzungen aus grauer Vorzeit\, mächtige Kirchen\, Mühlen\, Sperrwerke Zeugen unserer heimatlichen Geschichte sind. Im Wechsel der Jahrhunderte hat alles seinen Platz gefunden.  \n\n\n\nAnsprechpartner: Hans-Hermann Putensen
URL:https://wp2025.foer-platt.de/termine/platt-up-brenners-hoff/
LOCATION:Plattdeutschzentrum im Haus des Gastes (Brenners Hoff)\, Schützenstraße 4\, Salzhausen\, 21376
END:VEVENT
END:VCALENDAR