BEGIN:VCALENDAR
VERSION:2.0
PRODID:-//FÖR PLATT e. V. - ECPv6.15.20//NONSGML v1.0//EN
CALSCALE:GREGORIAN
METHOD:PUBLISH
X-ORIGINAL-URL:https://wp2025.foer-platt.de
X-WR-CALDESC:Veranstaltungen für FÖR PLATT e. V.
REFRESH-INTERVAL;VALUE=DURATION:PT1H
X-Robots-Tag:noindex
X-PUBLISHED-TTL:PT1H
BEGIN:VTIMEZONE
TZID:Europe/Berlin
BEGIN:DAYLIGHT
TZOFFSETFROM:+0100
TZOFFSETTO:+0200
TZNAME:CEST
DTSTART:20240331T010000
END:DAYLIGHT
BEGIN:STANDARD
TZOFFSETFROM:+0200
TZOFFSETTO:+0100
TZNAME:CET
DTSTART:20241027T010000
END:STANDARD
BEGIN:DAYLIGHT
TZOFFSETFROM:+0100
TZOFFSETTO:+0200
TZNAME:CEST
DTSTART:20250330T010000
END:DAYLIGHT
BEGIN:STANDARD
TZOFFSETFROM:+0200
TZOFFSETTO:+0100
TZNAME:CET
DTSTART:20251026T010000
END:STANDARD
BEGIN:DAYLIGHT
TZOFFSETFROM:+0100
TZOFFSETTO:+0200
TZNAME:CEST
DTSTART:20260329T010000
END:DAYLIGHT
BEGIN:STANDARD
TZOFFSETFROM:+0200
TZOFFSETTO:+0100
TZNAME:CET
DTSTART:20261025T010000
END:STANDARD
END:VTIMEZONE
BEGIN:VEVENT
DTSTART;TZID=Europe/Berlin:20250627T150000
DTEND;TZID=Europe/Berlin:20250627T170000
DTSTAMP:20260421T030757
CREATED:20250330T131642Z
LAST-MODIFIED:20250612T143201Z
UID:201-1751036400-1751043600@wp2025.foer-platt.de
SUMMARY:Plattdüütsch Möhlensnack
DESCRIPTION:Linn Schuback ut Achterdiek\, Olland vertellt: „En opregen Johr as Ollanner Blütenkönigin 2024/25“. Linn Schuback erzählt über ihre Erlebnisse als Ollaner Blütenkönigin: Wie lange das Ankleiden mit der traditionellen Ollaner Brauttracht dauert\, sie zeigt auch Bilder und berichtet\, was sie auf den Festen in Niedersachsen mit den royalen Kolleginnen aus anderen Gegenden und in Berlin in Gesprächen mit Politikern erlebt hat. \n\n\n\nAnschließend in der Mahlgaststube Kaffee und Kuchen – Klönsnacks und Fragen un „dat allens op Platt“. \n\n\n\n\n\n(Einlass ab 14.30 Uhr)
URL:https://wp2025.foer-platt.de/termine/plattdueuetsch-moehlensnack/
LOCATION:Mühlenmuseum Moisburg\, Auf dem Damm 10\, Moisburg\, 21647
CATEGORIES:Klönschnack
END:VEVENT
END:VCALENDAR