BEGIN:VCALENDAR
VERSION:2.0
PRODID:-//FÖR PLATT e. V. - ECPv6.15.20//NONSGML v1.0//EN
CALSCALE:GREGORIAN
METHOD:PUBLISH
X-WR-CALNAME:FÖR PLATT e. V.
X-ORIGINAL-URL:https://wp2025.foer-platt.de
X-WR-CALDESC:Veranstaltungen für FÖR PLATT e. V.
REFRESH-INTERVAL;VALUE=DURATION:PT1H
X-Robots-Tag:noindex
X-PUBLISHED-TTL:PT1H
BEGIN:VTIMEZONE
TZID:Europe/Berlin
BEGIN:DAYLIGHT
TZOFFSETFROM:+0100
TZOFFSETTO:+0200
TZNAME:CEST
DTSTART:20240331T010000
END:DAYLIGHT
BEGIN:STANDARD
TZOFFSETFROM:+0200
TZOFFSETTO:+0100
TZNAME:CET
DTSTART:20241027T010000
END:STANDARD
BEGIN:DAYLIGHT
TZOFFSETFROM:+0100
TZOFFSETTO:+0200
TZNAME:CEST
DTSTART:20250330T010000
END:DAYLIGHT
BEGIN:STANDARD
TZOFFSETFROM:+0200
TZOFFSETTO:+0100
TZNAME:CET
DTSTART:20251026T010000
END:STANDARD
BEGIN:DAYLIGHT
TZOFFSETFROM:+0100
TZOFFSETTO:+0200
TZNAME:CEST
DTSTART:20260329T010000
END:DAYLIGHT
BEGIN:STANDARD
TZOFFSETFROM:+0200
TZOFFSETTO:+0100
TZNAME:CET
DTSTART:20261025T010000
END:STANDARD
END:VTIMEZONE
BEGIN:VEVENT
DTSTART;TZID=Europe/Berlin:20250907T110000
DTEND;TZID=Europe/Berlin:20250907T150000
DTSTAMP:20260420T221959
CREATED:20250622T134647Z
LAST-MODIFIED:20250622T134648Z
UID:467-1757242800-1757257200@wp2025.foer-platt.de
SUMMARY:Schnitzeljagd für Klein und Groß durch Egestorf
DESCRIPTION:Eine Schnitzeljagd für Klein und Groß durch Egestorf mit lustigen Aufgaben „op Platt“ zum Rätseln\, Spielen und mehr … Ein Spaß für die ganze Familie! Wer kein Plattdeutsch versteht\, bekommt die Aufgaben in Hochdeutsch! Unterwegs gibt es alkoholfreie Getränke und kleine Leckereien. Start ist am Dresslers Hus. \n\n\n\nAnmeldung erwünscht bei Bärbel Rohlfs-Thiem\, Tel. 04184/897 35 36 oder bei Elke Homann-Peper\, Tel. 04175/82 57. Die Teilnahme ist kostenfrei\, der Heimatverein freut sich über Spenden.
URL:https://wp2025.foer-platt.de/termine/schnitzeljagd-fuer-klein-und-gross-durch-egestorf/
LOCATION:Dresslers Hus\, Im Sande 1\, Egestorf\, 21272
CATEGORIES:Platt för Kinner,Veranstaltung
END:VEVENT
BEGIN:VEVENT
DTSTART;TZID=Europe/Berlin:20250907T150000
DTEND;TZID=Europe/Berlin:20250907T180000
DTSTAMP:20260420T221959
CREATED:20250330T132614Z
LAST-MODIFIED:20250710T205417Z
UID:219-1757257200-1757268000@wp2025.foer-platt.de
SUMMARY:Konzert mit dem Otto Groote Ensemble
DESCRIPTION:Das Otto Groote Ensemble kommt erneut nach Salzhausen in die Dörpschün (Einlass ab 14.30 Uhr) und präsentiert eine bunte Folkmusik-Mischung mit platt- und hoch­deutschen Liedern. In der Pause werden Kaffee und Kuchen angeboten. \n\n\n\nKarten (18 Euro\, ohne Verzehr) sind ab August im Vorverkauf in der Buchhandlung Lünebuch\, Hauptstr. 6b\, Salzhausen\, erhältlich\, evtl. Restkarten an der Tageskasse. \n\n\n\nVerbindliche Reservierungen sind möglich\, gerne per E-Mail an info@foer-platt.de
URL:https://wp2025.foer-platt.de/termine/konzert-mit-dem-otto-groote-ensemble/
LOCATION:Dörpschün am Lindenberg\, Am Lindenberg 5B\, Salzhausen\, 21376
CATEGORIES:Konzert
ATTACH;FMTTYPE=image/jpeg:https://wp2025.foer-platt.de/wp-content/uploads/2025/06/07.09._Otto-Groote-Ensemble.jpg
ORGANIZER;CN="F%C3%96R PLATT e. V.":MAILTO:info@foer-platt.de
END:VEVENT
END:VCALENDAR