BEGIN:VCALENDAR
VERSION:2.0
PRODID:-//FÖR PLATT e. V. - ECPv6.15.20//NONSGML v1.0//EN
CALSCALE:GREGORIAN
METHOD:PUBLISH
X-ORIGINAL-URL:https://wp2025.foer-platt.de
X-WR-CALDESC:Veranstaltungen für FÖR PLATT e. V.
REFRESH-INTERVAL;VALUE=DURATION:PT1H
X-Robots-Tag:noindex
X-PUBLISHED-TTL:PT1H
BEGIN:VTIMEZONE
TZID:Europe/Berlin
BEGIN:DAYLIGHT
TZOFFSETFROM:+0100
TZOFFSETTO:+0200
TZNAME:CEST
DTSTART:20240331T010000
END:DAYLIGHT
BEGIN:STANDARD
TZOFFSETFROM:+0200
TZOFFSETTO:+0100
TZNAME:CET
DTSTART:20241027T010000
END:STANDARD
BEGIN:DAYLIGHT
TZOFFSETFROM:+0100
TZOFFSETTO:+0200
TZNAME:CEST
DTSTART:20250330T010000
END:DAYLIGHT
BEGIN:STANDARD
TZOFFSETFROM:+0200
TZOFFSETTO:+0100
TZNAME:CET
DTSTART:20251026T010000
END:STANDARD
BEGIN:DAYLIGHT
TZOFFSETFROM:+0100
TZOFFSETTO:+0200
TZNAME:CEST
DTSTART:20260329T010000
END:DAYLIGHT
BEGIN:STANDARD
TZOFFSETFROM:+0200
TZOFFSETTO:+0100
TZNAME:CET
DTSTART:20261025T010000
END:STANDARD
END:VTIMEZONE
BEGIN:VEVENT
DTSTART;TZID=Europe/Berlin:20250911T150000
DTEND;TZID=Europe/Berlin:20250911T170000
DTSTAMP:20260420T222339
CREATED:20250622T134927Z
LAST-MODIFIED:20250622T134954Z
UID:469-1757602800-1757610000@wp2025.foer-platt.de
SUMMARY:Platt bi Koffie un Kauken
DESCRIPTION:„Platt bi Koffie un Kauken“ – Asta Müller wird eigene Geschichten vortragen\, aber auch andere plattdeutsche Schriftsteller zu Gehör bringen. Der Wister Singkreis unterhält zwischendurch mit plattdeutschen Liedern. Bitte vorher anmelden bei Asta Müller\, Tel. 04182-7976 oder per E-Mail asta.mueller@ewe.net. \n\n\n\nDer Eintritt ist frei (Kaffeegedeck 13\,50 € – Kaffee satt\, 1 St. Torte\, 1 St. Kuchen)
URL:https://wp2025.foer-platt.de/termine/platt-bi-koffie-un-kauken/
LOCATION:Gasthaus „Bi Minken“\, Bremer Str. 31\, Wistedt\, 21255
CATEGORIES:Klönschnack
END:VEVENT
END:VCALENDAR