BEGIN:VCALENDAR
VERSION:2.0
PRODID:-//FÖR PLATT e. V. - ECPv6.15.20//NONSGML v1.0//EN
CALSCALE:GREGORIAN
METHOD:PUBLISH
X-ORIGINAL-URL:https://wp2025.foer-platt.de
X-WR-CALDESC:Veranstaltungen für FÖR PLATT e. V.
REFRESH-INTERVAL;VALUE=DURATION:PT1H
X-Robots-Tag:noindex
X-PUBLISHED-TTL:PT1H
BEGIN:VTIMEZONE
TZID:Europe/Berlin
BEGIN:DAYLIGHT
TZOFFSETFROM:+0100
TZOFFSETTO:+0200
TZNAME:CEST
DTSTART:20240331T010000
END:DAYLIGHT
BEGIN:STANDARD
TZOFFSETFROM:+0200
TZOFFSETTO:+0100
TZNAME:CET
DTSTART:20241027T010000
END:STANDARD
BEGIN:DAYLIGHT
TZOFFSETFROM:+0100
TZOFFSETTO:+0200
TZNAME:CEST
DTSTART:20250330T010000
END:DAYLIGHT
BEGIN:STANDARD
TZOFFSETFROM:+0200
TZOFFSETTO:+0100
TZNAME:CET
DTSTART:20251026T010000
END:STANDARD
BEGIN:DAYLIGHT
TZOFFSETFROM:+0100
TZOFFSETTO:+0200
TZNAME:CEST
DTSTART:20260329T010000
END:DAYLIGHT
BEGIN:STANDARD
TZOFFSETFROM:+0200
TZOFFSETTO:+0100
TZNAME:CET
DTSTART:20261025T010000
END:STANDARD
END:VTIMEZONE
BEGIN:VEVENT
DTSTART;TZID=Europe/Berlin:20250913T140000
DTEND;TZID=Europe/Berlin:20250913T170000
DTSTAMP:20260421T000154
CREATED:20250622T135158Z
LAST-MODIFIED:20250710T205509Z
UID:471-1757772000-1757782800@wp2025.foer-platt.de
SUMMARY:Mitgliederversammlung des Vereins FÖR PLATT e. V.
DESCRIPTION:Mitgliederversammlung des Vereins FÖR PLATT e. V. mit einem Betriebsbesuch in der Waldklinik Jesteburg Aldag GmbH & Co. KG – Zentrum für Rehabilitation – Kleckerwaldweg 145\, 21266 Jesteburg\, mit anschließendem Kaffeetrinken dort.  \n\n\n\nGäste sind herzlich willkommen\, weitere Informationen werden noch bekannt gegeben. \n\n\n\nEine Anmeldung bis 5. September ist erforderlich\, gerne per E-Mail an info@foer-platt.deoder telefonisch bei Schriftführerin Astrid Sitarz\, Tel. 0175-1592556. 
URL:https://wp2025.foer-platt.de/termine/mitgliederversammlung-des-vereins-foer-platt-e-v/
LOCATION:Waldklinik Jesteburg\, Kleckerwaldweg 145\, Jesteburg\, 21266
CATEGORIES:Führung,Mitgliederversammlung
ATTACH;FMTTYPE=image/jpeg:https://wp2025.foer-platt.de/wp-content/uploads/2025/06/13.09.Logo-Foer-Platt-e.V.jpg
ORGANIZER;CN="F%C3%96R PLATT e. V.":MAILTO:info@foer-platt.de
END:VEVENT
END:VCALENDAR