BEGIN:VCALENDAR
VERSION:2.0
PRODID:-//FÖR PLATT e. V. - ECPv6.15.20//NONSGML v1.0//EN
CALSCALE:GREGORIAN
METHOD:PUBLISH
X-ORIGINAL-URL:https://wp2025.foer-platt.de
X-WR-CALDESC:Veranstaltungen für FÖR PLATT e. V.
REFRESH-INTERVAL;VALUE=DURATION:PT1H
X-Robots-Tag:noindex
X-PUBLISHED-TTL:PT1H
BEGIN:VTIMEZONE
TZID:Europe/Berlin
BEGIN:DAYLIGHT
TZOFFSETFROM:+0100
TZOFFSETTO:+0200
TZNAME:CEST
DTSTART:20240331T010000
END:DAYLIGHT
BEGIN:STANDARD
TZOFFSETFROM:+0200
TZOFFSETTO:+0100
TZNAME:CET
DTSTART:20241027T010000
END:STANDARD
BEGIN:DAYLIGHT
TZOFFSETFROM:+0100
TZOFFSETTO:+0200
TZNAME:CEST
DTSTART:20250330T010000
END:DAYLIGHT
BEGIN:STANDARD
TZOFFSETFROM:+0200
TZOFFSETTO:+0100
TZNAME:CET
DTSTART:20251026T010000
END:STANDARD
BEGIN:DAYLIGHT
TZOFFSETFROM:+0100
TZOFFSETTO:+0200
TZNAME:CEST
DTSTART:20260329T010000
END:DAYLIGHT
BEGIN:STANDARD
TZOFFSETFROM:+0200
TZOFFSETTO:+0100
TZNAME:CET
DTSTART:20261025T010000
END:STANDARD
END:VTIMEZONE
BEGIN:VEVENT
DTSTART;TZID=Europe/Berlin:20250917T100000
DTEND;TZID=Europe/Berlin:20250917T110000
DTSTAMP:20260420T222059
CREATED:20250908T195342Z
LAST-MODIFIED:20250908T200020Z
UID:590-1758103200-1758106800@wp2025.foer-platt.de
SUMMARY:Dat Winser Schlottgespenst - Plattdeutsches Kaspertheater lockt ins Museum
DESCRIPTION:Ein Gespenst treibt sein Unwesen im Winsener Schloss und versetzt Prinzessin Sybille und ihre Mutter Herzogin Dorothea in Angst und Schrecken. Da kommen Kasper und Seppel gerade recht. Die beiden versuchen\, das Gespenst mit einer Falle zu überlisten – doch der Plan geht schief. Gemeinsam mit Hund Bello brechen sie daraufhin in den Wald auf\, wo sie dem Übeltäter auf die Spur kommen wollen. Dabei gilt es so manche Gefahr zu meistern. Am Ende wird das Schlossgespenst entlarvt\, und obendrein taucht eine geheimnisvolle Schatzkarte auf. Zusammen machen sich alle auf die Suche nach dem Schatz\, den einst Otto der Strenge im Schloss verborgen haben soll. \n\n\n\nKinder und Erwachsene können Kasper und Seppel am Mittwoch\, den 17. September auf diesem spannenden Abenteuer begleiten. Das Stück wird in plattdeutscher Sprache aufgeführt. Und wer außerdem erfahren möchte\, wer Herzogin Dorothea und Otto der Strenge wirklich waren\, kann dies in der aktuellen Sonderausstellung des Museums entdecken: „Herzogliches Winsen“ erzählt die Geschichte des Schlosses und seiner Bewohner. Die Ausstellung ist im Eintritt zum Kaspertheater enthalten und kann vorab besichtigt werden. \n\n\n\nDas Kaspertheater des Museums im Marstall spielt das Stück zweimal – einmal am Vormittag für Schulklassen und Kindergärten und einmal am Nachmittag für alle Interessierten um 16 Uhr. Für die Gruppenvorführung um 10 Uhr ist eine Anmeldung erforderlich\, unter 04171-3419 oder info@museum-im-marstall.de.  \n\n\n\nDer Eintritt kostet für Erwachsene 3 €\, für Kinder 1 €. Die Vorführung dauert 60 Minuten\, ohne Pause.  
URL:https://wp2025.foer-platt.de/termine/dat-winser-schlottgespenst-plattdeutsches-kaspertheater-lockt-ins-museum/
LOCATION:Museum im Marstall\, Schlossplatz 11\, Winsen\, 21423
CATEGORIES:Platt för Kinner
ATTACH;FMTTYPE=image/jpeg:https://wp2025.foer-platt.de/wp-content/uploads/2025/09/Kasperle-scaled.jpg
ORGANIZER;CN="Kaspertheater des Museums im Marstall":MAILTO:mailto:info@museum-im-marstall.de
END:VEVENT
BEGIN:VEVENT
DTSTART;TZID=Europe/Berlin:20250917T160000
DTEND;TZID=Europe/Berlin:20250917T170000
DTSTAMP:20260420T222059
CREATED:20250908T195915Z
LAST-MODIFIED:20250908T200021Z
UID:595-1758124800-1758128400@wp2025.foer-platt.de
SUMMARY:Dat Winser Schlottgespenst - Plattdeutsches Kaspertheater lockt ins Museum
DESCRIPTION:Ein Gespenst treibt sein Unwesen im Winsener Schloss und versetzt Prinzessin Sybille und ihre Mutter Herzogin Dorothea in Angst und Schrecken. Da kommen Kasper und Seppel gerade recht. Die beiden versuchen\, das Gespenst mit einer Falle zu überlisten – doch der Plan geht schief. Gemeinsam mit Hund Bello brechen sie daraufhin in den Wald auf\, wo sie dem Übeltäter auf die Spur kommen wollen. Dabei gilt es so manche Gefahr zu meistern. Am Ende wird das Schlossgespenst entlarvt\, und obendrein taucht eine geheimnisvolle Schatzkarte auf. Zusammen machen sich alle auf die Suche nach dem Schatz\, den einst Otto der Strenge im Schloss verborgen haben soll. \n\n\n\nKinder und Erwachsene können Kasper und Seppel am Mittwoch\, den 17. September auf diesem spannenden Abenteuer begleiten. Das Stück wird in plattdeutscher Sprache aufgeführt. Und wer außerdem erfahren möchte\, wer Herzogin Dorothea und Otto der Strenge wirklich waren\, kann dies in der aktuellen Sonderausstellung des Museums entdecken: „Herzogliches Winsen“ erzählt die Geschichte des Schlosses und seiner Bewohner. Die Ausstellung ist im Eintritt zum Kaspertheater enthalten und kann vorab besichtigt werden. \n\n\n\nDas Kaspertheater des Museums im Marstall spielt das Stück zweimal – einmal am Vormittag für Schulklassen und Kindergärten und einmal am Nachmittag für alle Interessierten um 16 Uhr. Für die Gruppenvorführung um 10 Uhr ist eine Anmeldung erforderlich\, unter 04171-3419 oder info@museum-im-marstall.de.  \n\n\n\nDer Eintritt kostet für Erwachsene 3 €\, für Kinder 1 €. Die Vorführung dauert 60 Minuten\, ohne Pause. 
URL:https://wp2025.foer-platt.de/termine/dat-winser-schlottgespenst-plattdeutsches-kaspertheater-lockt-ins-museum-2/
LOCATION:Museum im Marstall\, Schlossplatz 11\, Winsen\, 21423
CATEGORIES:Platt för Kinner,Theater
ATTACH;FMTTYPE=image/jpeg:https://wp2025.foer-platt.de/wp-content/uploads/2025/09/Kasperle-2-Winser-Schlottgespenst.jpg
ORGANIZER;CN="Kaspertheater des Museums im Marstall":MAILTO:mailto:info@museum-im-marstall.de
END:VEVENT
END:VCALENDAR