BEGIN:VCALENDAR
VERSION:2.0
PRODID:-//FÖR PLATT e. V. - ECPv6.15.20//NONSGML v1.0//EN
CALSCALE:GREGORIAN
METHOD:PUBLISH
X-ORIGINAL-URL:https://wp2025.foer-platt.de
X-WR-CALDESC:Veranstaltungen für FÖR PLATT e. V.
REFRESH-INTERVAL;VALUE=DURATION:PT1H
X-Robots-Tag:noindex
X-PUBLISHED-TTL:PT1H
BEGIN:VTIMEZONE
TZID:Europe/Berlin
BEGIN:DAYLIGHT
TZOFFSETFROM:+0100
TZOFFSETTO:+0200
TZNAME:CEST
DTSTART:20240331T010000
END:DAYLIGHT
BEGIN:STANDARD
TZOFFSETFROM:+0200
TZOFFSETTO:+0100
TZNAME:CET
DTSTART:20241027T010000
END:STANDARD
BEGIN:DAYLIGHT
TZOFFSETFROM:+0100
TZOFFSETTO:+0200
TZNAME:CEST
DTSTART:20250330T010000
END:DAYLIGHT
BEGIN:STANDARD
TZOFFSETFROM:+0200
TZOFFSETTO:+0100
TZNAME:CET
DTSTART:20251026T010000
END:STANDARD
BEGIN:DAYLIGHT
TZOFFSETFROM:+0100
TZOFFSETTO:+0200
TZNAME:CEST
DTSTART:20260329T010000
END:DAYLIGHT
BEGIN:STANDARD
TZOFFSETFROM:+0200
TZOFFSETTO:+0100
TZNAME:CET
DTSTART:20261025T010000
END:STANDARD
END:VTIMEZONE
BEGIN:VEVENT
DTSTART;TZID=Europe/Berlin:20250919T193000
DTEND;TZID=Europe/Berlin:20250919T220000
DTSTAMP:20260420T222340
CREATED:20250330T132758Z
LAST-MODIFIED:20250710T211337Z
UID:221-1758310200-1758319200@wp2025.foer-platt.de
SUMMARY:„Harvsstied“ – Lesung und Musik
DESCRIPTION:Claus un Klaus\n\n\n\nHartmut Großmann\n\n\n\n\nClaus un Klaus – zusammen mit Maggie Grüttner – sowie Hartmut Großmann treten in der Steller Bücherei auf. \n\n\n\nClaus Peper aus Egestorf sowie Klaus Stehr und Maggie Grüttner aus Reppenstedt beherrschen als Vollblutmusiker nicht nur eine große Anzahl Instrumente (u.a. Drehleier\, verschiedene Gitarren\, Mandoline\, Banjo\, Flöten\, Violine)\, sie schreiben auch eigene plattdeutsche Lieder\, die sie mit viel Humor gekonnt und virtuos auf die Bühne bringen. Daneben erklingen aus dem Irischen übertragene und traditionellen „Evergreens“\, \n\n\n\nAuch dieses Mal werden wieder Mitsinglieder angeboten. Die Musikanten freuen sich auf fröhliche Resonanz. \n\n\n\nDas Steller Publikum kennt Hartmut Großmann\, Autor von drei plattdeutschen Büchern\, bereits seit 2013 von etlichen Auftritten in der Steller Bücherei. Besonders sein letztes Buch „Vun allens wat“\, das er zusammen mit seinem Bruder Bernd geschrieben hat\, beinhaltet zum großen Teil recht tiefgründige Geschichten\, die allerdings alle mit einer Prise Humor gewürzt sind. In seiner lebendigen\, ausdrucksstarken Art wird der „Lokalmatador“ dem Publikum seine Geschichten nahebringen. \n\n\n\nEintritt frei\, der Hut geht rum.
URL:https://wp2025.foer-platt.de/termine/harvsstied-lesung-und-musik/
LOCATION:Die Bücherei Stelle\, Unter den Linden 18b\, Stelle\, 21435
CATEGORIES:Konzert,Lesung und Musik,Veranstaltung
ATTACH;FMTTYPE=image/jpeg:https://wp2025.foer-platt.de/wp-content/uploads/2025/06/19.09.-Stelle-und-26.09.-Egestorf.jpg
END:VEVENT
END:VCALENDAR