BEGIN:VCALENDAR
VERSION:2.0
PRODID:-//FÖR PLATT e. V. - ECPv6.15.20//NONSGML v1.0//EN
CALSCALE:GREGORIAN
METHOD:PUBLISH
X-WR-CALNAME:FÖR PLATT e. V.
X-ORIGINAL-URL:https://wp2025.foer-platt.de
X-WR-CALDESC:Veranstaltungen für FÖR PLATT e. V.
REFRESH-INTERVAL;VALUE=DURATION:PT1H
X-Robots-Tag:noindex
X-PUBLISHED-TTL:PT1H
BEGIN:VTIMEZONE
TZID:Europe/Berlin
BEGIN:DAYLIGHT
TZOFFSETFROM:+0100
TZOFFSETTO:+0200
TZNAME:CEST
DTSTART:20240331T010000
END:DAYLIGHT
BEGIN:STANDARD
TZOFFSETFROM:+0200
TZOFFSETTO:+0100
TZNAME:CET
DTSTART:20241027T010000
END:STANDARD
BEGIN:DAYLIGHT
TZOFFSETFROM:+0100
TZOFFSETTO:+0200
TZNAME:CEST
DTSTART:20250330T010000
END:DAYLIGHT
BEGIN:STANDARD
TZOFFSETFROM:+0200
TZOFFSETTO:+0100
TZNAME:CET
DTSTART:20251026T010000
END:STANDARD
BEGIN:DAYLIGHT
TZOFFSETFROM:+0100
TZOFFSETTO:+0200
TZNAME:CEST
DTSTART:20260329T010000
END:DAYLIGHT
BEGIN:STANDARD
TZOFFSETFROM:+0200
TZOFFSETTO:+0100
TZNAME:CET
DTSTART:20261025T010000
END:STANDARD
END:VTIMEZONE
BEGIN:VEVENT
DTSTART;TZID=Europe/Berlin:20250925T180000
DTEND;TZID=Europe/Berlin:20250925T200000
DTSTAMP:20260420T222033
CREATED:20250622T135819Z
LAST-MODIFIED:20250803T082304Z
UID:478-1758823200-1758830400@wp2025.foer-platt.de
SUMMARY:„Düt un Dat op Platt“ - Comedy mit Ilka Brüggemann
DESCRIPTION:Comedy mit Ilka Brüggemann »Düt un dat op Platt\, hör mal’n beten to«  \n\n\n\nWörum hebbt Huushaltsgeräte Fruunsnamen oder mokt Minschen Fotos von jümmer Eeten?  \n\n\n\nEintritt 20\,00 €\, Kartenvorverkauf bei Susanne Meyer-Laborius\, Tel. 04105-85153 oder Hilde Homann\,Tel. 04171-3805\, per E-Mail vorstand@landfrauen-stelle.de
URL:https://wp2025.foer-platt.de/termine/duett-un-dat-op-platt-comedy-mit-ilka-brueggemann/
LOCATION:Gasthaus von Deyn\, Kreuzdeich 10\, Stelle\, OT. Fliegenberg\, 21435
CATEGORIES:Veranstaltung
ATTACH;FMTTYPE=image/jpeg:https://wp2025.foer-platt.de/wp-content/uploads/2025/06/25.09._Ilka-Brueggemann.jpg
END:VEVENT
END:VCALENDAR