BEGIN:VCALENDAR
VERSION:2.0
PRODID:-//FÖR PLATT e. V. - ECPv6.15.20//NONSGML v1.0//EN
CALSCALE:GREGORIAN
METHOD:PUBLISH
X-ORIGINAL-URL:https://wp2025.foer-platt.de
X-WR-CALDESC:Veranstaltungen für FÖR PLATT e. V.
REFRESH-INTERVAL;VALUE=DURATION:PT1H
X-Robots-Tag:noindex
X-PUBLISHED-TTL:PT1H
BEGIN:VTIMEZONE
TZID:Europe/Berlin
BEGIN:DAYLIGHT
TZOFFSETFROM:+0100
TZOFFSETTO:+0200
TZNAME:CEST
DTSTART:20240331T010000
END:DAYLIGHT
BEGIN:STANDARD
TZOFFSETFROM:+0200
TZOFFSETTO:+0100
TZNAME:CET
DTSTART:20241027T010000
END:STANDARD
BEGIN:DAYLIGHT
TZOFFSETFROM:+0100
TZOFFSETTO:+0200
TZNAME:CEST
DTSTART:20250330T010000
END:DAYLIGHT
BEGIN:STANDARD
TZOFFSETFROM:+0200
TZOFFSETTO:+0100
TZNAME:CET
DTSTART:20251026T010000
END:STANDARD
BEGIN:DAYLIGHT
TZOFFSETFROM:+0100
TZOFFSETTO:+0200
TZNAME:CEST
DTSTART:20260329T010000
END:DAYLIGHT
BEGIN:STANDARD
TZOFFSETFROM:+0200
TZOFFSETTO:+0100
TZNAME:CET
DTSTART:20261025T010000
END:STANDARD
END:VTIMEZONE
BEGIN:VEVENT
DTSTART;TZID=Europe/Berlin:20251005T110000
DTEND;TZID=Europe/Berlin:20251005T120000
DTSTAMP:20260420T204550
CREATED:20250710T203114Z
LAST-MODIFIED:20250710T203115Z
UID:503-1759662000-1759665600@wp2025.foer-platt.de
SUMMARY:Gottesdeenst op Platt
DESCRIPTION:Plattdeutscher Gottesdienst / Erntedankgottesdienst mit Pastorin Wiebke Alex
URL:https://wp2025.foer-platt.de/termine/gottesdeenst-op-platt-2/
LOCATION:St. Johannis Kirche Salzhausen\, Winsener Str. 1\, Salzhausen\, 21376
CATEGORIES:Gottesdienst
END:VEVENT
BEGIN:VEVENT
DTSTART;TZID=Europe/Berlin:20251005T150000
DTEND;TZID=Europe/Berlin:20251005T180000
DTSTAMP:20260420T204550
CREATED:20250710T203707Z
LAST-MODIFIED:20250817T083247Z
UID:507-1759676400-1759687200@wp2025.foer-platt.de
SUMMARY:Festival op Platt – Musik aus allen Richtungen!
DESCRIPTION:Festival op Platt – Musik aus allen Richtungen!  \n\n\n\n\n\n\n\n\n\n\n\n\n\n\n\n\n\nDie Musiker aus Leidenschaft präsentieren handgemachte Musik aus ganz verschiedenen Stilrichtungen. Neben selbst komponierten Stücken und Neubearbeitungen von bekannten Songs befinden sich auch „Klassiker“ des plattdeutschen Liedgutes im Repertoire\, ebenso wie traditionelle Lieder\, von Rock bis Pop und Blasmusik – laat jo överraschen! Es wirken mit: \n\n\n\nJürgen Hillmer\, Claus und Klaus mit Maggie Grüttner\, das Duo Plückfiedel und die Band Terraform. Karten 10 € sind im Vorverkauf erhältlich bei Birgit Bunkenburg\, Tel. 0170-2172062 oder per E-Mail info@uns-doerphus.de
URL:https://wp2025.foer-platt.de/termine/festival-op-platt-musik-aus-allen-richtungen/
LOCATION:Dörphus Hörsten\, Hörstener Schulstraße 4\, Seevetal\, 21217
CATEGORIES:Konzert
ATTACH;FMTTYPE=image/jpeg:https://wp2025.foer-platt.de/wp-content/uploads/2025/06/05.10.-Terraform.jpg
ORGANIZER;CN="F%C3%96R PLATT e. V.":MAILTO:info@foer-platt.de
END:VEVENT
END:VCALENDAR