BEGIN:VCALENDAR
VERSION:2.0
PRODID:-//FÖR PLATT e. V. - ECPv6.15.20//NONSGML v1.0//EN
CALSCALE:GREGORIAN
METHOD:PUBLISH
X-ORIGINAL-URL:https://wp2025.foer-platt.de
X-WR-CALDESC:Veranstaltungen für FÖR PLATT e. V.
REFRESH-INTERVAL;VALUE=DURATION:PT1H
X-Robots-Tag:noindex
X-PUBLISHED-TTL:PT1H
BEGIN:VTIMEZONE
TZID:Europe/Berlin
BEGIN:DAYLIGHT
TZOFFSETFROM:+0100
TZOFFSETTO:+0200
TZNAME:CEST
DTSTART:20240331T010000
END:DAYLIGHT
BEGIN:STANDARD
TZOFFSETFROM:+0200
TZOFFSETTO:+0100
TZNAME:CET
DTSTART:20241027T010000
END:STANDARD
BEGIN:DAYLIGHT
TZOFFSETFROM:+0100
TZOFFSETTO:+0200
TZNAME:CEST
DTSTART:20250330T010000
END:DAYLIGHT
BEGIN:STANDARD
TZOFFSETFROM:+0200
TZOFFSETTO:+0100
TZNAME:CET
DTSTART:20251026T010000
END:STANDARD
BEGIN:DAYLIGHT
TZOFFSETFROM:+0100
TZOFFSETTO:+0200
TZNAME:CEST
DTSTART:20260329T010000
END:DAYLIGHT
BEGIN:STANDARD
TZOFFSETFROM:+0200
TZOFFSETTO:+0100
TZNAME:CET
DTSTART:20261025T010000
END:STANDARD
END:VTIMEZONE
BEGIN:VEVENT
DTSTART;TZID=Europe/Berlin:20251213T143000
DTEND;TZID=Europe/Berlin:20251213T170000
DTSTAMP:20260420T173949
CREATED:20251104T194552Z
LAST-MODIFIED:20251104T194658Z
UID:629-1765636200-1765645200@wp2025.foer-platt.de
SUMMARY:Lütt Wiehnachtstiet – Plattdeutsche Weihnachtsgeschichten am Kamin
DESCRIPTION:Am 13. Dezember laden „de Plattsnucken“ vom Geschichts- und Museumsverein Buchholz und Umgebung e.V. in die Holmer Mühle ab 14.30 Uhr zu einem besonderen Nachmittag ein: Unter dem Titel „Lütt\, Wiehnachtstiet“ stehen gemütliche plattdeutsche Weihnachtsgeschichten im Mittelpunkt. Bei Kaffee und Kuchen lässt sich hier die Adventszeit ganz entspannt genießen. \n\n\n\nDie Veranstaltung erinnert an frühere Zeiten\, als die Weihnachtszeit noch ein Moment des Zusammensitzens und gemeinsamen Lauschen war. Geschichten wurden vorgelesen\, Erinnerungen geteilt und die warmherzige Atmosphäre am Kamin genossen.  \n\n\n\nGenau dieses Gefühl möchten wir in der Holmer Mühle wieder aufleben lassen: gemütlich\, besinnlich und voller plattdeutscher Tradition. Ob Jung oder Alt – alle Gäste sind eingeladen\, in Erinnerungen zu schwelgen\, sich von den Geschichten verzaubern zu lassen und die Weihnachtszeit in vertrauter\, heimeliger Runde zu feiern. \n\n\n\nTauchen Sie ein in die besinnliche Welt der plattdeutschen Weihnacht – mit Geschichten\, die das Herz erwärmen und an frühere Adventstage erinnern. \n\n\n\nAnmeldung unter:04181 – 317 34 (mi. 10:00 bis 12:00 Uhr)per E-Mail an info@gmv-buchholz.de
URL:https://wp2025.foer-platt.de/termine/luett-wiehnachtstiet-plattdeutsche-weihnachtsgeschichten-am-kamin/
LOCATION:Holmer Mühle\, Schierhorner Straße 1\, Buchholz\, 21244
ATTACH;FMTTYPE=image/jpeg:https://wp2025.foer-platt.de/wp-content/uploads/2025/11/Luett-Wiehnachtstied.jpg
END:VEVENT
END:VCALENDAR