BEGIN:VCALENDAR
VERSION:2.0
PRODID:-//FÖR PLATT e. V. - ECPv6.15.20//NONSGML v1.0//EN
CALSCALE:GREGORIAN
METHOD:PUBLISH
X-WR-CALNAME:FÖR PLATT e. V.
X-ORIGINAL-URL:https://wp2025.foer-platt.de
X-WR-CALDESC:Veranstaltungen für FÖR PLATT e. V.
REFRESH-INTERVAL;VALUE=DURATION:PT1H
X-Robots-Tag:noindex
X-PUBLISHED-TTL:PT1H
BEGIN:VTIMEZONE
TZID:Europe/Berlin
BEGIN:DAYLIGHT
TZOFFSETFROM:+0100
TZOFFSETTO:+0200
TZNAME:CEST
DTSTART:20240331T010000
END:DAYLIGHT
BEGIN:STANDARD
TZOFFSETFROM:+0200
TZOFFSETTO:+0100
TZNAME:CET
DTSTART:20241027T010000
END:STANDARD
BEGIN:DAYLIGHT
TZOFFSETFROM:+0100
TZOFFSETTO:+0200
TZNAME:CEST
DTSTART:20250330T010000
END:DAYLIGHT
BEGIN:STANDARD
TZOFFSETFROM:+0200
TZOFFSETTO:+0100
TZNAME:CET
DTSTART:20251026T010000
END:STANDARD
BEGIN:DAYLIGHT
TZOFFSETFROM:+0100
TZOFFSETTO:+0200
TZNAME:CEST
DTSTART:20260329T010000
END:DAYLIGHT
BEGIN:STANDARD
TZOFFSETFROM:+0200
TZOFFSETTO:+0100
TZNAME:CET
DTSTART:20261025T010000
END:STANDARD
END:VTIMEZONE
BEGIN:VEVENT
DTSTART;TZID=Europe/Berlin:20251218T160000
DTEND;TZID=Europe/Berlin:20251218T180000
DTSTAMP:20260420T173555
CREATED:20251123T154519Z
LAST-MODIFIED:20251123T154625Z
UID:669-1766073600-1766080800@wp2025.foer-platt.de
SUMMARY:Platt-Weihnacht in Bardowick
DESCRIPTION:Die Hermann-Löns-Schule und der Verein Lüneplatt laden zu einem gemütlichen Nachmittag mit Kindern der Plattdeutsch-AG nach Bardowick ins „Forsthaus“\, Vögelser Weg 27\, ein. Das Thema der Vorführung am Donnerstag\, 18. Dezember\, um 16 Uhr lautet: „Rund üm den Wiehnachtsboom“. Unter der Leitung der Lehrerin Urte Gehrckens-Gärtner werden die Kinder zum Thema „Wiehnachtsboom“ singen\, lesen und spielen. Ein gemeinsames Singen bekannter Weihnachtslieder wird von Klaus Stehr und GitarrenschülerInnen begleitet. \n\n\n\nBei Kaffee\, Kakao und Kuchen sind auch Gäste herzlich willkommen.
URL:https://wp2025.foer-platt.de/termine/platt-weihnacht-in-bardowick-2/
LOCATION:Forsthaus Bardowick\, Vögelser Weg 27\, Bardowick\, 21357
CATEGORIES:Weihnachtsfeier
ATTACH;FMTTYPE=image/jpeg:https://wp2025.foer-platt.de/wp-content/uploads/2025/11/Plakat-HLS-Wiehnacht-Weihnachten-HLS-Forsthaus-18.12.2025.jpg.jpeg
END:VEVENT
END:VCALENDAR