BEGIN:VCALENDAR
VERSION:2.0
PRODID:-//FÖR PLATT e. V. - ECPv6.15.20//NONSGML v1.0//EN
CALSCALE:GREGORIAN
METHOD:PUBLISH
X-ORIGINAL-URL:https://wp2025.foer-platt.de
X-WR-CALDESC:Veranstaltungen für FÖR PLATT e. V.
REFRESH-INTERVAL;VALUE=DURATION:PT1H
X-Robots-Tag:noindex
X-PUBLISHED-TTL:PT1H
BEGIN:VTIMEZONE
TZID:Europe/Berlin
BEGIN:DAYLIGHT
TZOFFSETFROM:+0100
TZOFFSETTO:+0200
TZNAME:CEST
DTSTART:20240331T010000
END:DAYLIGHT
BEGIN:STANDARD
TZOFFSETFROM:+0200
TZOFFSETTO:+0100
TZNAME:CET
DTSTART:20241027T010000
END:STANDARD
BEGIN:DAYLIGHT
TZOFFSETFROM:+0100
TZOFFSETTO:+0200
TZNAME:CEST
DTSTART:20250330T010000
END:DAYLIGHT
BEGIN:STANDARD
TZOFFSETFROM:+0200
TZOFFSETTO:+0100
TZNAME:CET
DTSTART:20251026T010000
END:STANDARD
BEGIN:DAYLIGHT
TZOFFSETFROM:+0100
TZOFFSETTO:+0200
TZNAME:CEST
DTSTART:20260329T010000
END:DAYLIGHT
BEGIN:STANDARD
TZOFFSETFROM:+0200
TZOFFSETTO:+0100
TZNAME:CET
DTSTART:20261025T010000
END:STANDARD
END:VTIMEZONE
BEGIN:VEVENT
DTSTART;TZID=Europe/Berlin:20251219T193000
DTEND;TZID=Europe/Berlin:20251219T220000
DTSTAMP:20260420T173832
CREATED:20251215T221249Z
LAST-MODIFIED:20251215T221339Z
UID:706-1766172600-1766181600@wp2025.foer-platt.de
SUMMARY:Dat Plattpaket "Wiehnachten? Warrt besünners!"
DESCRIPTION:Mister Plattdeutsch Gerd Spiekermann feiert Abschied in der Burg Seevetal \n\n\n\nGerd Spiekermann\, bekannt als Mister Plattdeutsch\, beschert im Dezember seinen Abschied von der Bühne. Am 19. Dezember tritt er ein letztes Mal nach 50 Jahren in der Burg Seevetal auf. \n\n\n\nGerd Spiekermann – Kolumnist\, Buchautor und Entertainer der plattdeutschen Szene – die unverwechselbare Radiostimme – plant seinen letzten Auftritt in Seevetal. Nach fast 50 Jahren und 1000 Geschichten für das Radio\, nach 24 Jahren Hafenkonzert und mehr als 750 Gerd-Spiekermann-Folgen „Platt für Anfänger“ endet eine Ära. \n\n\n\nFünfmal wurde Spiekermann für seine plattdeutschen Erzählungen mit literarischen Preisen ausgezeichnet\, u.a. mit dem Fritz-Reuter-Preis der Carl-Toepfer-Stiftung und 2023 mit dem Fritz-Reuter-Literaturpreis. Sein Kommentar: »Und das freut ein ́ denn ja auch.« \n\n\n\nGerd Spiekermann wurde 1952 in Ovelgönne im Kreis Wesermarsch geboren und ist mit der niederdeutschen Sprache groß geworden. Er mag Hamburg\, seine Wahlheimat und erzählt gerne Geschichten von em un ehr. Kein Wunder\, dass die Arbeit als Plattdeutsch-Redakteur bei NDR 90\,3 für Gerd Spiekermann der Traumberuf war. \n\n\n\nAm 19. Dezember haben alle Fans der Plattdeutschen Sprache noch einmal die Möglichkeit\, den Kultautoren und begnadeten Sprecher hautnah und gestärkt auf seiner Bühnenspielwiese zu erleben. Der bekannte Mister-Plattdüütsch vom NDR steht an diesem Abend gemeinsam mit Jochen Wiegandt und Lars-Luis Linek „Sutenhobel“ auf der Hittfelder Bühne. Alle drei Männer sind echte Leuchttürme der norddeutschen Platt-Szene und durch ihre zahlreichen Veröffentlichungen\, Radiosendungen und Auszeichnungen bekannt. Zusammen geben sie ihr Bestes und einenmusikalisch-humorvollen Einblick in ihre aktuellen Bühnenprogramme. \n\n\n\nDas Hamburger „Plattpaket“ stimmt das Publikum musikalisch und kabarettistisch auf das große Fest ein. Jochen Wiegandt „Der Möwe“\, passionierter Liedersammler und Volksliedforscher\, beginnt mit Weihnachtsliedern\, Parodien und deren familiären Hintergrundgeschichten aus dem alten Hamburg. Gerd Spiekermann\, Radiogröße und Plattdüütsch-Legende\, erzählt vom Wiehnachts-Stress in seiner Familie und blickt mal ironisch\, mal nostalgisch auf seine Kinder- und Jugendzeit zurück. Lars-Luis Linek „Sutenhobel“ schließlich singt den Wiehnachts-Blues und verzaubert das Publikum mit seinem virtuosen Mundharmonikaspiel. \n\n\n\nKarten gibt es im Ticketshop der Burg Seevetal\, Am Göhlenbach 11\, 21218 Seevetal sowie an der Tageskasse und online unter www.reservix.de
URL:https://wp2025.foer-platt.de/termine/dat-plattpaket-wiehnachten-warrt-besuenners/
LOCATION:Burg Seevetal\, Am Göhlenbach 11\, Seevetal/Hittfeld\, 21218
CATEGORIES:Theater
END:VEVENT
END:VCALENDAR