BEGIN:VCALENDAR
VERSION:2.0
PRODID:-//FÖR PLATT e. V. - ECPv6.15.20//NONSGML v1.0//EN
CALSCALE:GREGORIAN
METHOD:PUBLISH
X-ORIGINAL-URL:https://wp2025.foer-platt.de
X-WR-CALDESC:Veranstaltungen für FÖR PLATT e. V.
REFRESH-INTERVAL;VALUE=DURATION:PT1H
X-Robots-Tag:noindex
X-PUBLISHED-TTL:PT1H
BEGIN:VTIMEZONE
TZID:Europe/Berlin
BEGIN:DAYLIGHT
TZOFFSETFROM:+0100
TZOFFSETTO:+0200
TZNAME:CEST
DTSTART:20240331T010000
END:DAYLIGHT
BEGIN:STANDARD
TZOFFSETFROM:+0200
TZOFFSETTO:+0100
TZNAME:CET
DTSTART:20241027T010000
END:STANDARD
BEGIN:DAYLIGHT
TZOFFSETFROM:+0100
TZOFFSETTO:+0200
TZNAME:CEST
DTSTART:20250330T010000
END:DAYLIGHT
BEGIN:STANDARD
TZOFFSETFROM:+0200
TZOFFSETTO:+0100
TZNAME:CET
DTSTART:20251026T010000
END:STANDARD
BEGIN:DAYLIGHT
TZOFFSETFROM:+0100
TZOFFSETTO:+0200
TZNAME:CEST
DTSTART:20260329T010000
END:DAYLIGHT
BEGIN:STANDARD
TZOFFSETFROM:+0200
TZOFFSETTO:+0100
TZNAME:CET
DTSTART:20261025T010000
END:STANDARD
END:VTIMEZONE
BEGIN:VEVENT
DTSTART;TZID=Europe/Berlin:20251221T100000
DTEND;TZID=Europe/Berlin:20251221T110000
DTSTAMP:20260420T173719
CREATED:20251215T220635Z
LAST-MODIFIED:20251216T085317Z
UID:704-1766311200-1766314800@wp2025.foer-platt.de
SUMMARY:Gottesdienst "Plattdütsche Wiehnacht in Hollenstedt!"
DESCRIPTION:Wir feiern in unserer Hollenstedter Kirche „Plattdütsche Wiehnacht.  Unser Thema lautet  „Heimat“.  Mit dem plattdeutschen Team:  Dr. Heinz Harms\, Heike Christiansen\, Anne Schmitt\, Petra Lemmermann und Pastorin Ulrike Meier-Heieis. Wir zünden die 4. Kerze zusammen an\,  lesen Geschichten zum Thema und halten einen Dialog darüber\, was Heimat für uns bedeutet und singen Plattdeutsche Adventslieder. 
URL:https://wp2025.foer-platt.de/termine/gottesdienst-plattduetsche-wiehnacht-in-hollenstedt/
LOCATION:Hollenstedter Kirche\, Am Markt 5\, Hollenstedt\, 21279
CATEGORIES:Gottesdienst
ATTACH;FMTTYPE=image/jpeg:https://wp2025.foer-platt.de/wp-content/uploads/2025/06/28.09._Hollenstedt-Kirche.jpg
END:VEVENT
END:VCALENDAR