BEGIN:VCALENDAR
VERSION:2.0
PRODID:-//FÖR PLATT e. V. - ECPv6.15.20//NONSGML v1.0//EN
CALSCALE:GREGORIAN
METHOD:PUBLISH
X-WR-CALNAME:FÖR PLATT e. V.
X-ORIGINAL-URL:https://wp2025.foer-platt.de
X-WR-CALDESC:Veranstaltungen für FÖR PLATT e. V.
REFRESH-INTERVAL;VALUE=DURATION:PT1H
X-Robots-Tag:noindex
X-PUBLISHED-TTL:PT1H
BEGIN:VTIMEZONE
TZID:Europe/Berlin
BEGIN:DAYLIGHT
TZOFFSETFROM:+0100
TZOFFSETTO:+0200
TZNAME:CEST
DTSTART:20250330T010000
END:DAYLIGHT
BEGIN:STANDARD
TZOFFSETFROM:+0200
TZOFFSETTO:+0100
TZNAME:CET
DTSTART:20251026T010000
END:STANDARD
BEGIN:DAYLIGHT
TZOFFSETFROM:+0100
TZOFFSETTO:+0200
TZNAME:CEST
DTSTART:20260329T010000
END:DAYLIGHT
BEGIN:STANDARD
TZOFFSETFROM:+0200
TZOFFSETTO:+0100
TZNAME:CET
DTSTART:20261025T010000
END:STANDARD
BEGIN:DAYLIGHT
TZOFFSETFROM:+0100
TZOFFSETTO:+0200
TZNAME:CEST
DTSTART:20270328T010000
END:DAYLIGHT
BEGIN:STANDARD
TZOFFSETFROM:+0200
TZOFFSETTO:+0100
TZNAME:CET
DTSTART:20271031T010000
END:STANDARD
END:VTIMEZONE
BEGIN:VEVENT
DTSTART;TZID=Europe/Berlin:20260206T190000
DTEND;TZID=Europe/Berlin:20260206T213000
DTSTAMP:20260420T142834
CREATED:20251207T182355Z
LAST-MODIFIED:20251207T184944Z
UID:686-1770404400-1770413400@wp2025.foer-platt.de
SUMMARY:Blots keen Püttjerkram
DESCRIPTION:Die beiden Hoteliers der „Feuerqualle“ und des „Strandpirat“ an der Nordseeküste machen sich durch diverse boshafte Handlungen das Leben schwer\, sodass das Hotel „Feuerqualle“ in finanzielle Schwierigkeiten gerät. Durch Zufall ist der fast sicher geglaubte Konkurs noch abwendbar. \n\n\n\nDie Komödie ist im Plausus Theaterverlag erschienen. Autor: Wolfgang Binder
URL:https://wp2025.foer-platt.de/termine/blots-keen-puettjerkram-2/
LOCATION:Freilichtmuseum am Kiekeberg\, Am Kiekeberg 1\, Rosengarten-Ehestorf\, 21224
CATEGORIES:Komödie,Theater
ATTACH;FMTTYPE=image/jpeg:https://wp2025.foer-platt.de/wp-content/uploads/2025/11/Blots-keen-Puettjerkram.jpeg
ORGANIZER;CN="Hittfelder Speeldeel e. V.":MAILTO:theater@hittfelderspeeldeel.de
END:VEVENT
END:VCALENDAR