BEGIN:VCALENDAR
VERSION:2.0
PRODID:-//FÖR PLATT e. V. - ECPv6.15.20//NONSGML v1.0//EN
CALSCALE:GREGORIAN
METHOD:PUBLISH
X-ORIGINAL-URL:https://wp2025.foer-platt.de
X-WR-CALDESC:Veranstaltungen für FÖR PLATT e. V.
REFRESH-INTERVAL;VALUE=DURATION:PT1H
X-Robots-Tag:noindex
X-PUBLISHED-TTL:PT1H
BEGIN:VTIMEZONE
TZID:Europe/Berlin
BEGIN:DAYLIGHT
TZOFFSETFROM:+0100
TZOFFSETTO:+0200
TZNAME:CEST
DTSTART:20240331T010000
END:DAYLIGHT
BEGIN:STANDARD
TZOFFSETFROM:+0200
TZOFFSETTO:+0100
TZNAME:CET
DTSTART:20241027T010000
END:STANDARD
BEGIN:DAYLIGHT
TZOFFSETFROM:+0100
TZOFFSETTO:+0200
TZNAME:CEST
DTSTART:20250330T010000
END:DAYLIGHT
BEGIN:STANDARD
TZOFFSETFROM:+0200
TZOFFSETTO:+0100
TZNAME:CET
DTSTART:20251026T010000
END:STANDARD
BEGIN:DAYLIGHT
TZOFFSETFROM:+0100
TZOFFSETTO:+0200
TZNAME:CEST
DTSTART:20260329T010000
END:DAYLIGHT
BEGIN:STANDARD
TZOFFSETFROM:+0200
TZOFFSETTO:+0100
TZNAME:CET
DTSTART:20261025T010000
END:STANDARD
END:VTIMEZONE
BEGIN:VEVENT
DTSTART;TZID=Europe/Berlin:20250329T140000
DTEND;TZID=Europe/Berlin:20250329T170000
DTSTAMP:20260421T071630
CREATED:20250328T063457Z
LAST-MODIFIED:20250328T063457Z
UID:90-1743256800-1743267600@wp2025.foer-platt.de
SUMMARY:Mitgliederversammlung Verein FÖR PLATT e. V.
DESCRIPTION:Mitgliederversammlung Verein FÖR PLATT e. V. in Luhmühlen/Salzhausen \nACHTUNG: Treffpunkt ist um 14 Uhr vor dem Eingang des Turniergeländes auf der Westergellerser Heide\, Luhmühlen\, mit Führung. \nAnschließend genießen wir im Café Diekert\, Tangensiek 1\, 21376 Salzhausen\, ab ca. 15.00 Uhr Kaffee und Kuchen (das ist für Mitglieder frei\, Gäste können wie immer gerne mitgebracht werden und sind uns mit einer Spende in Höhe von 5\,00 € pro Person herzlich willkommen). \nDort folgt ab 15.30 Uhr unsere Mitgliederversammlung\, Dauer bis ca. 17 Uhr. \nDamit wir besser planen können\, bitten wir um eine verbindliche Anmeldung bis spätestens zum 22. März. Bitte dabei angeben: Namen und Personen-Anzahl\, mit Kaffee & Kuchen\, gerne per E-Mail an info@foer-platt.de  oder telefonisch bei\nSchriftführerin Astrid Sitarz\, Tel. 0175-1592556.
URL:https://wp2025.foer-platt.de/termine/mitgliederversammlung-verein-foer-platt-e-v/
LOCATION:Café Diekert\, Tangensiek 1\, Salzhausen\, Niedersachsen\, 21376\, Germany
CATEGORIES:Mitgliederversammlung
ORGANIZER;CN="F%C3%96R PLATT e. V.":MAILTO:info@foer-platt.de
END:VEVENT
BEGIN:VEVENT
DTSTART;TZID=Europe/Berlin:20250330T080000
DTEND;TZID=Europe/Berlin:20250330T170000
DTSTAMP:20260421T071630
CREATED:20250330T131200Z
LAST-MODIFIED:20250330T134039Z
UID:194-1743321600-1743354000@wp2025.foer-platt.de
SUMMARY:Platt för Kinner
DESCRIPTION:Jubiläum 20 Jahre Verein FÖR PLATT e. V. \n\n\n\n\n\nAlle Kinder sind herzlich eingeladen\, zusammen mit Eltern und Großeltern\, die plattdeutsche Sprache kennenzulernen und aktiv mitzumachen. \n\n\n\nSilke Borchert präsentiert ihr Kamishibai-Erzähltheater\, Fingerspiele\, Lieder und Tanz\, zum Anschauen\, Zuhören und Mitmachen. \n\n\n\nDer Eintritt ist frei (ohne Verzehr). In der Pause werden Kaffee\, Kuchen und Getränke angeboten. Um Anmeldung bis 4. Mai wird gebeten bei Astrid Sitarz\, Tel. 0175 – 1592556\, gerne per E-Mail an info@foer-platt.de \n\n\n\nVeranstalter: Verein FÖR PLATT e. V. www.foer-platt.de in Zusammenarbeit mit Silke Borchert www.du-und-ich-begegnungspunkt.de
URL:https://wp2025.foer-platt.de/termine/platt-foer-kinner/
LOCATION:Freilichtmuseum am Kiekeberg\, Am Kiekeberg 1\, Rosengarten-Ehestorf\, 21224
CATEGORIES:Platt för Kinner,Veranstaltung
ORGANIZER;CN="F%C3%96R PLATT e. V.":MAILTO:info@foer-platt.de
END:VEVENT
BEGIN:VEVENT
DTSTART;TZID=Europe/Berlin:20250330T080000
DTEND;TZID=Europe/Berlin:20250330T170000
DTSTAMP:20260421T071630
CREATED:20250330T132012Z
LAST-MODIFIED:20250710T204711Z
UID:211-1743321600-1743354000@wp2025.foer-platt.de
SUMMARY:Plattdüütsch Möhlensnack
DESCRIPTION:Eintritt frei
URL:https://wp2025.foer-platt.de/termine/plattdueuetsch-moehlensnack-5/
LOCATION:Mühlenmuseum Moisburg\, Auf dem Damm 10\, Moisburg\, 21647
CATEGORIES:Klönschnack
ATTACH;FMTTYPE=image/jpeg:https://wp2025.foer-platt.de/wp-content/uploads/2025/06/26.09._Muehle-Moisburg.jpg
END:VEVENT
END:VCALENDAR