BEGIN:VCALENDAR
VERSION:2.0
PRODID:-//FÖR PLATT e. V. - ECPv6.15.20//NONSGML v1.0//EN
CALSCALE:GREGORIAN
METHOD:PUBLISH
X-WR-CALNAME:FÖR PLATT e. V.
X-ORIGINAL-URL:https://wp2025.foer-platt.de
X-WR-CALDESC:Veranstaltungen für FÖR PLATT e. V.
REFRESH-INTERVAL;VALUE=DURATION:PT1H
X-Robots-Tag:noindex
X-PUBLISHED-TTL:PT1H
BEGIN:VTIMEZONE
TZID:Europe/Berlin
BEGIN:DAYLIGHT
TZOFFSETFROM:+0100
TZOFFSETTO:+0200
TZNAME:CEST
DTSTART:20240331T010000
END:DAYLIGHT
BEGIN:STANDARD
TZOFFSETFROM:+0200
TZOFFSETTO:+0100
TZNAME:CET
DTSTART:20241027T010000
END:STANDARD
BEGIN:DAYLIGHT
TZOFFSETFROM:+0100
TZOFFSETTO:+0200
TZNAME:CEST
DTSTART:20250330T010000
END:DAYLIGHT
BEGIN:STANDARD
TZOFFSETFROM:+0200
TZOFFSETTO:+0100
TZNAME:CET
DTSTART:20251026T010000
END:STANDARD
BEGIN:DAYLIGHT
TZOFFSETFROM:+0100
TZOFFSETTO:+0200
TZNAME:CEST
DTSTART:20260329T010000
END:DAYLIGHT
BEGIN:STANDARD
TZOFFSETFROM:+0200
TZOFFSETTO:+0100
TZNAME:CET
DTSTART:20261025T010000
END:STANDARD
END:VTIMEZONE
BEGIN:VEVENT
DTSTART;TZID=Europe/Berlin:20250829T150000
DTEND;TZID=Europe/Berlin:20250829T170000
DTSTAMP:20260420T222101
CREATED:20250330T131800Z
LAST-MODIFIED:20250824T192332Z
UID:205-1756479600-1756486800@wp2025.foer-platt.de
SUMMARY:Plattdüütsch Möhlensnack
DESCRIPTION:Schinkenhöker Henning Basedahl\, Hollenstedt\, berichtet über das Thema: „Schinken mit Solt\, Rook\, Leev un Tiet. Wo geiht dat?“ \n\n\n\nLeitung: Dr. Heinz Harms\, Verein FÖR PLATT e. V. \n\n\n\nEintritt frei\, Einlass: ab 14:30 Uhr. \n\n\n\nSeit 50 Jahren wird in Hollenstedt Schinken produziert. Henning Basedahl führt das Familienunternehmen in zweiter Generation und hat sich mit seinem herausragenden Produkt in den letzten drei Jahrzehnten einen Namen in der Feinkostbranche gemacht. Sein Schinken gilt als einer der Besten Deutschlands. Eine stetig steigende Menge Schinken stammt von Schweinen aus sogenannter Offenstallhaltung. Sorgsam von Hand hergestellt\, reift das Produkt in den 50 Jahre alten Räucherkammern zu einer einmalig zarten Delikatesse heran. Dabei sind die Extraportion Liebe & Zeit fast wichtiger als gutes Salz und Buchenholzspäne aus nachhaltiger Forstwirtschaft.  \n\n\n\nBei Kaffee und Kuchen in der Mahlgaststube gibt es ausführlich Gelegenheit zu Fragen und Diskussionen und „dat allens op Platt“.
URL:https://wp2025.foer-platt.de/termine/plattdueuetsch-moehlensnack-3/
LOCATION:Mühlenmuseum Moisburg\, Auf dem Damm 10\, Moisburg\, 21647
CATEGORIES:Klönschnack
ATTACH;FMTTYPE=image/jpeg:https://wp2025.foer-platt.de/wp-content/uploads/2025/03/26.09._Muehle-Moisburg.jpg
END:VEVENT
BEGIN:VEVENT
DTSTART;TZID=Europe/Berlin:20250831T150000
DTEND;TZID=Europe/Berlin:20250831T173000
DTSTAMP:20260420T222101
CREATED:20250330T132437Z
LAST-MODIFIED:20250829T121903Z
UID:217-1756652400-1756661400@wp2025.foer-platt.de
SUMMARY:Auftaktveranstaltung "Plattdüütsch Weken im Landkreis Harburg"
DESCRIPTION:Die Veranstaltung ist ausgebucht / aktualisiert am 29.08.2025 – \n\n\n\n\n\nAuftaktveranstaltung der „Plattdüütsch Weken 2025“ im Landkreis Harburg  \n\n\n\n \n\n\n\n \n\n\n\n\n\n\n\n\nDe Ebendörper Immenschworm\n\n\n\nDuo Plückfiedel\n\n\n\n\nMitwirkende: Theaterverein Evendorf „De Ebendörper Immenschworm“\, das Duo „Plückfiedel“ singt un maakt Musik op Platt un hochdüütsch sowie weitere Gäste – Laat jo överraschen!  \n\n\n\nFür Kaffee & Torte/Kuchen (Gedeck 14 €\, incl. Selter) bitte bis 23. August anmelden bei Astrid Sitarz\, Tel. 0175-1592556 oder per E-Mail an info@foer-platt.de.                                                 Die Veranstaltung ist ausgebucht  / aktualisiert am 29.08.2025 \n\n\n\n \n\n\n\nEintritt frei – Spenden für den Verein sind willkommen. \n\n\n\nEinlass: ab 14 Uhr
URL:https://wp2025.foer-platt.de/termine/auftaktveranstaltung-plattdueuetsch-weken-im-landkreis-harburg/
LOCATION:Gasthof Vossbur\, Wulfsener Str. 4\, Toppenstedt\, OT. Tangendorf\, 21442
CATEGORIES:Auftaktveranstaltung
ATTACH;FMTTYPE=image/jpeg:https://wp2025.foer-platt.de/wp-content/uploads/2025/06/Logo-PW-2025-003.jpg
END:VEVENT
END:VCALENDAR