BEGIN:VCALENDAR
VERSION:2.0
PRODID:-//FÖR PLATT e. V. - ECPv6.15.20//NONSGML v1.0//EN
CALSCALE:GREGORIAN
METHOD:PUBLISH
X-WR-CALNAME:FÖR PLATT e. V.
X-ORIGINAL-URL:https://wp2025.foer-platt.de
X-WR-CALDESC:Veranstaltungen für FÖR PLATT e. V.
REFRESH-INTERVAL;VALUE=DURATION:PT1H
X-Robots-Tag:noindex
X-PUBLISHED-TTL:PT1H
BEGIN:VTIMEZONE
TZID:Europe/Berlin
BEGIN:DAYLIGHT
TZOFFSETFROM:+0100
TZOFFSETTO:+0200
TZNAME:CEST
DTSTART:20240331T010000
END:DAYLIGHT
BEGIN:STANDARD
TZOFFSETFROM:+0200
TZOFFSETTO:+0100
TZNAME:CET
DTSTART:20241027T010000
END:STANDARD
BEGIN:DAYLIGHT
TZOFFSETFROM:+0100
TZOFFSETTO:+0200
TZNAME:CEST
DTSTART:20250330T010000
END:DAYLIGHT
BEGIN:STANDARD
TZOFFSETFROM:+0200
TZOFFSETTO:+0100
TZNAME:CET
DTSTART:20251026T010000
END:STANDARD
BEGIN:DAYLIGHT
TZOFFSETFROM:+0100
TZOFFSETTO:+0200
TZNAME:CEST
DTSTART:20260329T010000
END:DAYLIGHT
BEGIN:STANDARD
TZOFFSETFROM:+0200
TZOFFSETTO:+0100
TZNAME:CET
DTSTART:20261025T010000
END:STANDARD
END:VTIMEZONE
BEGIN:VEVENT
DTSTART;TZID=Europe/Berlin:20251111T183000
DTEND;TZID=Europe/Berlin:20251111T193000
DTSTAMP:20260420T173631
CREATED:20251028T195713Z
LAST-MODIFIED:20251028T200023Z
UID:625-1762885800-1762889400@wp2025.foer-platt.de
SUMMARY:Plattdüütsche Runn zu Gast im Rüsselkäfer
DESCRIPTION:Die „Plattdüütsche Runn siet 1967 e. V.“ aus Harmstorf ist am Dienstag\, den 11. November\, in der Waldklinik „Rüsselkäfer“ in Jesteburg zu Gast und wird dort Ausschnitte aus ihrem Herbstprogramm mit Sketchen und Liedern präsentieren. Aufgeführt werden sechs plattdeutsche Sketche\, die aus dem Alltag berichten. Musikalisch wird das Programm mit bekannten (plattdeutschen) Liedern begleitet.
URL:https://wp2025.foer-platt.de/termine/plattdueuetsche-runn-zu-gast-im-ruesselkaefer/
LOCATION:Waldklinik Jesteburg\, Kleckerwaldweg 145\, Jesteburg\, 21266
CATEGORIES:Sketche
ATTACH;FMTTYPE=image/jpeg:https://wp2025.foer-platt.de/wp-content/uploads/2025/06/01.09._und-28.09._Platt-Logo-Harmstorf-e1761681565630.jpg
ORGANIZER;CN="Plattd%C3%BC%C3%BCtsche Runn siet 1967 e. V.":MAILTO:kontakt@plattdeutscherunde.de
END:VEVENT
BEGIN:VEVENT
DTSTART;TZID=Europe/Berlin:20251122T193000
DTEND;TZID=Europe/Berlin:20251122T213000
DTSTAMP:20260420T173631
CREATED:20250710T204216Z
LAST-MODIFIED:20251122T155356Z
UID:511-1763839800-1763847000@wp2025.foer-platt.de
SUMMARY:Konzert mit den Appeltown Washboard Worms op Platt „Plattdüütsch-Irische-Fiddle-Session“ -   ausverkauft!!!
DESCRIPTION:Konzert mit den Appeltown Washboard Worms op Platt „Plattdüütsch-Irische-Fiddle-Session“ – Eintritt 20 €. \n\n\n\nStand 10.11.2025: Das Konzert ist ausverkauft!!! \n\n\n\nKeine Karten mehr im Vorverkauf bei Lünebuch in Salzhausen erhältlich\, Reservierungen können nicht mehr angenommen werden.
URL:https://wp2025.foer-platt.de/termine/konzert-mit-den-appeltown-washboard-worms-op-platt-plattdueuetsch-country-skiffle-rock/
LOCATION:Dörpschün am Lindenberg\, Am Lindenberg 5B\, Salzhausen\, 21376
CATEGORIES:Klönschnack
ATTACH;FMTTYPE=image/jpeg:https://wp2025.foer-platt.de/wp-content/uploads/2025/06/22.11.-Appeltown-Washboard-Worms.jpg
END:VEVENT
END:VCALENDAR