BEGIN:VCALENDAR
VERSION:2.0
PRODID:-//FÖR PLATT e. V. - ECPv6.15.20//NONSGML v1.0//EN
CALSCALE:GREGORIAN
METHOD:PUBLISH
X-WR-CALNAME:FÖR PLATT e. V.
X-ORIGINAL-URL:https://wp2025.foer-platt.de
X-WR-CALDESC:Veranstaltungen für FÖR PLATT e. V.
REFRESH-INTERVAL;VALUE=DURATION:PT1H
X-Robots-Tag:noindex
X-PUBLISHED-TTL:PT1H
BEGIN:VTIMEZONE
TZID:Europe/Berlin
BEGIN:DAYLIGHT
TZOFFSETFROM:+0100
TZOFFSETTO:+0200
TZNAME:CEST
DTSTART:20240331T010000
END:DAYLIGHT
BEGIN:STANDARD
TZOFFSETFROM:+0200
TZOFFSETTO:+0100
TZNAME:CET
DTSTART:20241027T010000
END:STANDARD
BEGIN:DAYLIGHT
TZOFFSETFROM:+0100
TZOFFSETTO:+0200
TZNAME:CEST
DTSTART:20250330T010000
END:DAYLIGHT
BEGIN:STANDARD
TZOFFSETFROM:+0200
TZOFFSETTO:+0100
TZNAME:CET
DTSTART:20251026T010000
END:STANDARD
BEGIN:DAYLIGHT
TZOFFSETFROM:+0100
TZOFFSETTO:+0200
TZNAME:CEST
DTSTART:20260329T010000
END:DAYLIGHT
BEGIN:STANDARD
TZOFFSETFROM:+0200
TZOFFSETTO:+0100
TZNAME:CET
DTSTART:20261025T010000
END:STANDARD
END:VTIMEZONE
BEGIN:VEVENT
DTSTART;TZID=Europe/Berlin:20250901T193000
DTEND;TZID=Europe/Berlin:20250901T213000
DTSTAMP:20260421T214834
CREATED:20250622T133028Z
LAST-MODIFIED:20250710T205050Z
UID:459-1756755000-1756762200@wp2025.foer-platt.de
SUMMARY:Treffen der Plattdeutschen Runde aus Harmstorf
DESCRIPTION:Jeden ersten Montag im Monat trifft sich die Plattdeutsche Runde aus Harmstorf zum Vorlesen plattdeutscher Geschichten und Gedichte sowie zum Singen plattdeutscher Lieder. Gäste sind immer herzlich willkommen.  \n\n\n\nWeitere Infos unter www.plattdeutscherunde.de und auf Instagram.
URL:https://wp2025.foer-platt.de/termine/treffen-der-plattdeutschen-runde-aus-harmstorf/
LOCATION:Alte Schule\, Harmstorf\, Schulstraße 3\, Harmstorf\, 21228
CATEGORIES:Klönschnack
ATTACH;FMTTYPE=image/jpeg:https://wp2025.foer-platt.de/wp-content/uploads/2025/06/01.09._und-28.09._Platt-Logo-Harmstorf-e1761681565630.jpg
ORGANIZER;CN="Plattd%C3%BC%C3%BCtsche Runn siet 1967 e. V.":MAILTO:kontakt@plattdeutscherunde.de
END:VEVENT
BEGIN:VEVENT
DTSTART;TZID=Europe/Berlin:20250928T150000
DTEND;TZID=Europe/Berlin:20250928T170000
DTSTAMP:20260421T214834
CREATED:20250710T201800Z
LAST-MODIFIED:20250710T201801Z
UID:493-1759071600-1759078800@wp2025.foer-platt.de
SUMMARY:Plattdeutsche Sketche bi Kaffee un Koken
DESCRIPTION:Die Plattdeutsche Runde aus Harmstorf spielt plattdeutsche Sketche.Anmeldung erbeten\, bei Jan Wegener\, Tel. 0171-8166435 oder per E-Mail an kontakt@plattdeutscherunde.de |www.plattdeutscherunde.de und auf Instagram
URL:https://wp2025.foer-platt.de/termine/plattdeutsche-sketche-bi-kaffee-un-koken/
LOCATION:Alte Schule\, Harmstorf\, Schulstraße 3\, Harmstorf\, 21228
CATEGORIES:Sketche
ATTACH;FMTTYPE=image/jpeg:https://wp2025.foer-platt.de/wp-content/uploads/2025/06/01.09._und-28.09._Platt-Logo-Harmstorf-e1761681565630.jpg
ORGANIZER;CN="Plattd%C3%BC%C3%BCtsche Runn siet 1967 e. V.":MAILTO:kontakt@plattdeutscherunde.de
END:VEVENT
END:VCALENDAR