BEGIN:VCALENDAR
VERSION:2.0
PRODID:-//FÖR PLATT e. V. - ECPv6.15.20//NONSGML v1.0//EN
CALSCALE:GREGORIAN
METHOD:PUBLISH
X-WR-CALNAME:FÖR PLATT e. V.
X-ORIGINAL-URL:https://wp2025.foer-platt.de
X-WR-CALDESC:Veranstaltungen für FÖR PLATT e. V.
REFRESH-INTERVAL;VALUE=DURATION:PT1H
X-Robots-Tag:noindex
X-PUBLISHED-TTL:PT1H
BEGIN:VTIMEZONE
TZID:Europe/Berlin
BEGIN:DAYLIGHT
TZOFFSETFROM:+0100
TZOFFSETTO:+0200
TZNAME:CEST
DTSTART:20240331T010000
END:DAYLIGHT
BEGIN:STANDARD
TZOFFSETFROM:+0200
TZOFFSETTO:+0100
TZNAME:CET
DTSTART:20241027T010000
END:STANDARD
BEGIN:DAYLIGHT
TZOFFSETFROM:+0100
TZOFFSETTO:+0200
TZNAME:CEST
DTSTART:20250330T010000
END:DAYLIGHT
BEGIN:STANDARD
TZOFFSETFROM:+0200
TZOFFSETTO:+0100
TZNAME:CET
DTSTART:20251026T010000
END:STANDARD
BEGIN:DAYLIGHT
TZOFFSETFROM:+0100
TZOFFSETTO:+0200
TZNAME:CEST
DTSTART:20260329T010000
END:DAYLIGHT
BEGIN:STANDARD
TZOFFSETFROM:+0200
TZOFFSETTO:+0100
TZNAME:CET
DTSTART:20261025T010000
END:STANDARD
END:VTIMEZONE
BEGIN:VEVENT
DTSTART;TZID=Europe/Berlin:20250926T150000
DTEND;TZID=Europe/Berlin:20250926T170000
DTSTAMP:20260423T030517
CREATED:20250330T131837Z
LAST-MODIFIED:20250824T174547Z
UID:207-1758898800-1758906000@wp2025.foer-platt.de
SUMMARY:Plattdüütsch Möhlensnack
DESCRIPTION:„Plattdüütsch Möhlensnack“\, dat Seggen hett: Dr. Heinz Harms\, FÖR PLATT e. V. \n\n\n\nDierk Beneke\, Buer\, Familjenvadder un Börgermeester ut Heidenau snackt över „Bueree güstern un hüüt“. Ut 100 Köh in‘n Stall sünd mehr ad 1.000 worrn. Wat maakt dat mit dat Leven vun en Buern\, de hüüt as Ünnernehmer dinken un hanneln mütt? \n\n\n\nAchteran Kaffe un Koken – Klöönsnack un Diskusschonen\, un „dat allens op Platt“. \n\n\n\nIntritt köst nix. \n\n\n\n\n\n\n\n\n\n\n\n\n\nMühlenmuseum Moisburg\, Auf dem Damm 10\, 21647 Moisburg\, \n\n\n\nVeranstalter: Freilichtmuseum am Kiekeberg\, Außenstelle Mühlenmuseum Moisburg www.muehlenmuseum-moisburg.de | www.kiekeberg-museum.de
URL:https://wp2025.foer-platt.de/termine/plattdueuetsch-moehlensnack-4/
LOCATION:Mühlenmuseum Moisburg\, Auf dem Damm 10\, Moisburg\, 21647
CATEGORIES:Klönschnack
ATTACH;FMTTYPE=image/jpeg:https://wp2025.foer-platt.de/wp-content/uploads/2025/06/26.09._Muehle-Moisburg.jpg
END:VEVENT
BEGIN:VEVENT
DTSTART;TZID=Europe/Berlin:20250928T140000
DTEND;TZID=Europe/Berlin:20250928T153000
DTSTAMP:20260423T030517
CREATED:20250710T202323Z
LAST-MODIFIED:20250710T202428Z
UID:497-1759068000-1759073400@wp2025.foer-platt.de
SUMMARY:Mühlenführung op Platt
DESCRIPTION:„Mühlenführung in plattdeutscher Sprache“ am Tag der Industriekultur am Wasser durch den freiwilligen\, ehrenamtlichen Müller Wilfried Reincke. \n\n\n\nAnmeldung erbeten\, Tel. 040-79017625 oder per E- Mail an beckmann@kiekeberg-museum.de; Eintritt: 3 €\, Kinder unter 18 Jahren frei | www.muehlenmuseum-moisburg.de + www.kiekeberg-museum.de
URL:https://wp2025.foer-platt.de/termine/muehlenfuehrung-op-platt/
LOCATION:Mühlenmuseum Moisburg\, Auf dem Damm 10\, Moisburg\, 21647
CATEGORIES:Führung
ATTACH;FMTTYPE=image/jpeg:https://wp2025.foer-platt.de/wp-content/uploads/2025/06/26.09._Muehle-Moisburg.jpg
END:VEVENT
END:VCALENDAR